Workbook
Name Maturity: Table2[Maturity]

Sheet Introduction

Sheet NIST Survey
A1: Ref | B1: Function | C1: Category | D1: Subcategory | E1: Maturity | F1: Calculate | G1: Evidence Reviewed | H1: Comments
A2: 1 | B2: IDENTIFY (ID) | C2: Asset Management (ID.AM) | D2: ID.AM-1: Physical devices and systems within the organization are inventoried | F2: =IF(Table1[[#This Row],[Maturity]]<>"", INT(LEFT(Table1[[#This Row],[Maturity]], 1)),"")
A3: 2 | B3: IDENTIFY (ID) | C3: Asset Management (ID.AM) | D3: ID.AM-2: Software platforms and applications within the organization are inventoried | F3: =IF(Table1[[#This Row],[Maturity]]<>"", INT(LEFT(Table1[[#This Row],[Maturity]], 1)),"")
A4: 3 | B4: IDENTIFY (ID) | C4: Asset Management (ID.AM) | D4: ID.AM-3: Organizational communication and data flows are mapped | F4: =IF(Table1[[#This Row],[Maturity]]<>"", INT(LEFT(Table1[[#This Row],[Maturity]], 1)),"")
A5: 4 | B5: IDENTIFY (ID) | C5: Asset Management (ID.AM) | D5: ID.AM-4: External information systems are catalogued | F5: =IF(Table1[[#This Row],[Maturity]]<>"", INT(LEFT(Table1[[#This Row],[Maturity]], 1)),"")
A6: 5 | B6: IDENTIFY (ID) | C6: Asset Management (ID.AM) | D6: ID.AM-5: Resources (e.g., hardware, devices, data, and software) are prioritized based on their classification, criticality, and business value | F6: =IF(Table1[[#This Row],[Maturity]]<>"", INT(LEFT(Table1[[#This Row],[Maturity]], 1)),"")
A7: 6 | B7: IDENTIFY (ID) | C7: Asset Management (ID.AM) | D7: ID.AM-6: Cybersecurity roles and responsibilities for the entire workforce and third-party stakeholders (e.g., suppliers, customers, partners) are established | F7: =IF(Table1[[#This Row],[Maturity]]<>"", INT(LEFT(Table1[[#This Row],[Maturity]], 1)),"")
A8: 7 | B8: IDENTIFY (ID) | C8: Business Environment (ID.BE) | D8: ID.BE-1: The organization’s role in the supply chain is identified and communicated | F8: =IF(Table1[[#This Row],[Maturity]]<>"", INT(LEFT(Table1[[#This Row],[Maturity]], 1)),"")
A9: 8 | B9: IDENTIFY (ID) | C9: Business Environment (ID.BE) | D9: ID.BE-2: The organization’s place in critical infrastructure and its industry sector is identified and communicated | F9: =IF(Table1[[#This Row],[Maturity]]<>"", INT(LEFT(Table1[[#This Row],[Maturity]], 1)),"")
A10: 9 | B10: IDENTIFY (ID) | C10: Business Environment (ID.BE) | D10: ID.BE-3: Priorities for organizational mission, objectives, and activities are established and communicated | F10: =IF(Table1[[#This Row],[Maturity]]<>"", INT(LEFT(Table1[[#This Row],[Maturity]], 1)),"")
A11: 10 | B11: IDENTIFY (ID) | C11: Business Environment (ID.BE) | D11: ID.BE-4: Dependencies and critical functions for delivery of critical services are established | F11: =IF(Table1[[#This Row],[Maturity]]<>"", INT(LEFT(Table1[[#This Row],[Maturity]], 1)),"")
A12: 11 | B12: IDENTIFY (ID) | C12: Business Environment (ID.BE) | D12: ID.BE-5: Resilience requirements to support delivery of critical services are established | F12: =IF(Table1[[#This Row],[Maturity]]<>"", INT(LEFT(Table1[[#This Row],[Maturity]], 1)),"")
A13: 12 | B13: IDENTIFY (ID) | C13: Governance (ID.GV) | D13: ID.GV-1: Organizational information security policy is established | F13: =IF(Table1[[#This Row],[Maturity]]<>"", INT(LEFT(Table1[[#This Row],[Maturity]], 1)),"")
... A99: 98 | B99: RECOVER (RC) | C99: Communications (RC.CO) | D99: RC.CO-3: Recovery activities are communicated to internal stakeholders and executive and management teams | F99: =IF(Table1[[#This Row],[Maturity]]<>"", INT(LEFT(Table1[[#This Row],[Maturity]], 1)),"")

Sheet Dashboard
B3: Overall Maturity: | C3: =IF(SUM(Table3[Maturity])<>0, AVERAGE(Table3[Maturity]), "") | D3: =IF(C3<>"", INDEX(Table2[Rating], 6-INT(LEFT(C3, 1))), "")
B5: Function | C5: Maturity | D5: Rating
B6: IDENTIFY (ID) | C6: =IF(SUMPRODUCT(--(Table1[Function]=Table3[[#This Row],[Function]]),--(Table1[Calculate]<>""))<>0, AVERAGEIF(Table1[Function], Table3[[#This Row],[Function]],Table1[Calculate]), "") | D6: =IF(C6<>"", VLOOKUP(INT(ROUND(C6,0)),Data!$A$2:$B$7,2,FALSE),"")
B7: PROTECT (PR) | C7: =IF(SUMPRODUCT(--(Table1[Function]=Table3[[#This Row],[Function]]),--(Table1[Calculate]<>""))<>0, AVERAGEIF(Table1[Function], Table3[[#This Row],[Function]],Table1[Calculate]), "") | D7: =IF(C7<>"", VLOOKUP(INT(ROUND(C7,0)),Data!$A$2:$B$7,2,FALSE),"")
B8: DETECT (DE) | C8: =IF(SUMPRODUCT(--(Table1[Function]=Table3[[#This Row],[Function]]),--(Table1[Calculate]<>""))<>0, AVERAGEIF(Table1[Function], Table3[[#This Row],[Function]],Table1[Calculate]), "") | D8: =IF(C8<>"", VLOOKUP(INT(ROUND(C8,0)),Data!$A$2:$B$7,2,FALSE),"")
B9: RESPOND (RS) | C9: =IF(SUMPRODUCT(--(Table1[Function]=Table3[[#This Row],[Function]]),--(Table1[Calculate]<>""))<>0, AVERAGEIF(Table1[Function], Table3[[#This Row],[Function]],Table1[Calculate]), "") | D9: =IF(C9<>"", VLOOKUP(INT(ROUND(C9,0)),Data!$A$2:$B$7,2,FALSE),"")
B10: RECOVER (RC) | C10: =IF(SUMPRODUCT(--(Table1[Function]=Table3[[#This Row],[Function]]),--(Table1[Calculate]<>""))<>0, AVERAGEIF(Table1[Function], Table3[[#This Row],[Function]],Table1[Calculate]), "") | D10: =IF(C10<>"", VLOOKUP(INT(ROUND(C10,0)),Data!$A$2:$B$7,2,FALSE),"")
B12: Category | C12: Maturity | D12: Rating
A13: IDENTIFY (ID) | B13: Asset Management (ID.AM) | C13: =IF(SUMPRODUCT(--(Table1[Category]=Table4[[#This Row],[Category]]),--(Table1[Maturity]<>""))<>0, AVERAGEIF(Table1[Category], Table4[[#This Row],[Category]],Table1[Calculate]), "") | D13: =IF(C13<>"", VLOOKUP(INT(ROUND(C13,0)),Data!$A$2:$B$7,2,FALSE),"")
B14: Business Environment (ID.BE) | C14: =IF(SUMPRODUCT(--(Table1[Category]=Table4[[#This Row],[Category]]),--(Table1[Maturity]<>""))<>0, AVERAGEIF(Table1[Category], Table4[[#This Row],[Category]],Table1[Calculate]), "") | D14: =IF(C14<>"", VLOOKUP(INT(ROUND(C14,0)),Data!$A$2:$B$7,2,FALSE),"")
B15: Governance (ID.GV) | C15: =IF(SUMPRODUCT(--(Table1[Category]=Table4[[#This Row],[Category]]),--(Table1[Maturity]<>""))<>0, AVERAGEIF(Table1[Category], Table4[[#This Row],[Category]],Table1[Calculate]), "") | D15: =IF(C15<>"", VLOOKUP(INT(ROUND(C15,0)),Data!$A$2:$B$7,2,FALSE),"")
B16: Risk Assessment (ID.RA) | C16: =IF(SUMPRODUCT(--(Table1[Category]=Table4[[#This Row],[Category]]),--(Table1[Maturity]<>""))<>0, AVERAGEIF(Table1[Category], Table4[[#This Row],[Category]],Table1[Calculate]), "") | D16: =IF(C16<>"", VLOOKUP(INT(ROUND(C16,0)),Data!$A$2:$B$7,2,FALSE),"")
B17: Risk Management Strategy (ID.RM) | C17: =IF(SUMPRODUCT(--(Table1[Category]=Table4[[#This Row],[Category]]),--(Table1[Maturity]<>""))<>0, AVERAGEIF(Table1[Category], Table4[[#This Row],[Category]],Table1[Calculate]), "") | D17: =IF(C17<>"", VLOOKUP(INT(ROUND(C17,0)),Data!$A$2:$B$7,2,FALSE),"")
A18: PROTECT (PR) | B18: Access Control (PR.AC) | C18: =IF(SUMPRODUCT(--(Table1[Category]=Table4[[#This Row],[Category]]),--(Table1[Maturity]<>""))<>0, AVERAGEIF(Table1[Category], Table4[[#This Row],[Category]],Table1[Calculate]), "") | D18: =IF(C18<>"", VLOOKUP(INT(ROUND(C18,0)),Data!$A$2:$B$7,2,FALSE),"")
B19: Awareness and Training (PR.AT) | C19: =IF(SUMPRODUCT(--(Table1[Category]=Table4[[#This Row],[Category]]),--(Table1[Maturity]<>""))<>0, AVERAGEIF(Table1[Category], Table4[[#This Row],[Category]],Table1[Calculate]), "") | D19: =IF(C19<>"", VLOOKUP(INT(ROUND(C19,0)),Data!$A$2:$B$7,2,FALSE),"")
B20: Data Security (PR.DS) | C20: =IF(SUMPRODUCT(--(Table1[Category]=Table4[[#This Row],[Category]]),--(Table1[Maturity]<>""))<>0, AVERAGEIF(Table1[Category], Table4[[#This Row],[Category]],Table1[Calculate]), "") | D20: =IF(C20<>"", VLOOKUP(INT(ROUND(C20,0)),Data!$A$2:$B$7,2,FALSE),"")
B21: Information Protection Processes and Procedures (PR.IP) | C21: =IF(SUMPRODUCT(--(Table1[Category]=Table4[[#This Row],[Category]]),--(Table1[Maturity]<>""))<>0, AVERAGEIF(Table1[Category], Table4[[#This Row],[Category]],Table1[Calculate]), "") | D21: =IF(C21<>"", VLOOKUP(INT(ROUND(C21,0)),Data!$A$2:$B$7,2,FALSE),"")
B22: Maintenance (PR.MA) | C22: =IF(SUMPRODUCT(--(Table1[Category]=Table4[[#This Row],[Category]]),--(Table1[Maturity]<>""))<>0, AVERAGEIF(Table1[Category], Table4[[#This Row],[Category]],Table1[Calculate]), "") | D22: =IF(C22<>"", VLOOKUP(INT(ROUND(C22,0)),Data!$A$2:$B$7,2,FALSE),"")
B23: Protective Technology (PR.PT) | C23: =IF(SUMPRODUCT(--(Table1[Category]=Table4[[#This Row],[Category]]),--(Table1[Maturity]<>""))<>0, AVERAGEIF(Table1[Category], Table4[[#This Row],[Category]],Table1[Calculate]), "") | D23: =IF(C23<>"", VLOOKUP(INT(ROUND(C23,0)),Data!$A$2:$B$7,2,FALSE),"")
A24: DETECT (DE) | B24: Anomalies and Events (DE.AE) | C24: =IF(SUMPRODUCT(--(Table1[Category]=Table4[[#This Row],[Category]]),--(Table1[Maturity]<>""))<>0, AVERAGEIF(Table1[Category], Table4[[#This Row],[Category]],Table1[Calculate]), "") | D24: =IF(C24<>"", VLOOKUP(INT(ROUND(C24,0)),Data!$A$2:$B$7,2,FALSE),"")
B25: Security Continuous Monitoring (DE.CM) | C25: =IF(SUMPRODUCT(--(Table1[Category]=Table4[[#This Row],[Category]]),--(Table1[Maturity]<>""))<>0, AVERAGEIF(Table1[Category], Table4[[#This Row],[Category]],Table1[Calculate]), "") | D25: =IF(C25<>"", VLOOKUP(INT(ROUND(C25,0)),Data!$A$2:$B$7,2,FALSE),"")
B26: Detection Processes (DE.DP) | C26: =IF(SUMPRODUCT(--(Table1[Category]=Table4[[#This Row],[Category]]),--(Table1[Maturity]<>""))<>0, AVERAGEIF(Table1[Category], Table4[[#This Row],[Category]],Table1[Calculate]), "") | D26: =IF(C26<>"", VLOOKUP(INT(ROUND(C26,0)),Data!$A$2:$B$7,2,FALSE),"")
A27: RESPOND (RS) | B27: Response Planning (RS.RP) | C27: =IF(SUMPRODUCT(--(Table1[Category]=Table4[[#This Row],[Category]]),--(Table1[Maturity]<>""))<>0, AVERAGEIF(Table1[Category], Table4[[#This Row],[Category]],Table1[Calculate]), "") | D27: =IF(C27<>"", VLOOKUP(INT(ROUND(C27,0)),Data!$A$2:$B$7,2,FALSE),"")
B28: Communications (RS.CO) | C28: =IF(SUMPRODUCT(--(Table1[Category]=Table4[[#This Row],[Category]]),--(Table1[Maturity]<>""))<>0, AVERAGEIF(Table1[Category], Table4[[#This Row],[Category]],Table1[Calculate]), "") | D28: =IF(C28<>"", VLOOKUP(INT(ROUND(C28,0)),Data!$A$2:$B$7,2,FALSE),"")
B29: Analysis (RS.AN) | C29: =IF(SUMPRODUCT(--(Table1[Category]=Table4[[#This Row],[Category]]),--(Table1[Maturity]<>""))<>0, AVERAGEIF(Table1[Category], Table4[[#This Row],[Category]],Table1[Calculate]), "") | D29: =IF(C29<>"", VLOOKUP(INT(ROUND(C29,0)),Data!$A$2:$B$7,2,FALSE),"")
B30: Mitigation (RS.MI) | C30: =IF(SUMPRODUCT(--(Table1[Category]=Table4[[#This Row],[Category]]),--(Table1[Maturity]<>""))<>0, AVERAGEIF(Table1[Category], Table4[[#This Row],[Category]],Table1[Calculate]), "") | D30: =IF(C30<>"", VLOOKUP(INT(ROUND(C30,0)),Data!$A$2:$B$7,2,FALSE),"")
B31: Improvements (RS.IM) | C31: =IF(SUMPRODUCT(--(Table1[Category]=Table4[[#This Row],[Category]]),--(Table1[Maturity]<>""))<>0, AVERAGEIF(Table1[Category], Table4[[#This Row],[Category]],Table1[Calculate]), "") | D31: =IF(C31<>"", VLOOKUP(INT(ROUND(C31,0)),Data!$A$2:$B$7,2,FALSE),"")
A32: RECOVER (RC) | B32: Recovery Planning (RC.RP) | C32: =IF(SUMPRODUCT(--(Table1[Category]=Table4[[#This Row],[Category]]),--(Table1[Maturity]<>""))<>0, AVERAGEIF(Table1[Category], Table4[[#This Row],[Category]],Table1[Calculate]), "") | D32: =IF(C32<>"", VLOOKUP(INT(ROUND(C32,0)),Data!$A$2:$B$7,2,FALSE),"")
B33: Improvements (RC.IM) | C33: =IF(SUMPRODUCT(--(Table1[Category]=Table4[[#This Row],[Category]]),--(Table1[Maturity]<>""))<>0, AVERAGEIF(Table1[Category], Table4[[#This Row],[Category]],Table1[Calculate]), "") | D33: =IF(C33<>"", VLOOKUP(INT(ROUND(C33,0)),Data!$A$2:$B$7,2,FALSE),"")
B34: Communications (RC.CO) | C34: =IF(SUMPRODUCT(--(Table1[Category]=Table4[[#This Row],[Category]]),--(Table1[Maturity]<>""))<>0, AVERAGEIF(Table1[Category], Table4[[#This Row],[Category]],Table1[Calculate]), "") | D34: =IF(C34<>"", VLOOKUP(INT(ROUND(C34,0)),Data!$A$2:$B$7,2,FALSE),"")

Sheet Data
A1: Score | B1: Rating | C1: Maturity
A2: 5 | B2: Optimized | C2: =A2&" - " &B2 -> 5 - Optimized
A3: 4 | B3: Managed | C3: =A3&" - " &B3 -> 4 - Managed
A4: 3 | B4: Defined | C4: =A4&" - " &B4 -> 3 - Defined
A5: 2 | B5: Repeatable | C5: =A5&" - " &B5 -> 2 - Repeatable
A6: 1 | B6: Initial | C6: =A6&" - " &B6 -> 1 - Initial
A7: 0 | B7: Non-Existent | C7: =A7&" - " &B7 -> 0 - Non-Existent
