BEGIN:VCALENDAR
VERSION:2.0
PRODID:-//Community Clinic Association of Los Angeles County - ECPv6.15.20//NONSGML v1.0//EN
CALSCALE:GREGORIAN
METHOD:PUBLISH
X-WR-CALNAME:Community Clinic Association of Los Angeles County
X-ORIGINAL-URL:https://ccalac.org
X-WR-CALDESC:Events for Community Clinic Association of Los Angeles County
REFRESH-INTERVAL;VALUE=DURATION:PT1H
X-Robots-Tag:noindex
X-PUBLISHED-TTL:PT1H
BEGIN:VTIMEZONE
TZID:America/Los_Angeles
BEGIN:DAYLIGHT
TZOFFSETFROM:-0800
TZOFFSETTO:-0700
TZNAME:PDT
DTSTART:20270314T100000
END:DAYLIGHT
BEGIN:STANDARD
TZOFFSETFROM:-0700
TZOFFSETTO:-0800
TZNAME:PST
DTSTART:20271107T090000
END:STANDARD
BEGIN:DAYLIGHT
TZOFFSETFROM:-0800
TZOFFSETTO:-0700
TZNAME:PDT
DTSTART:20280312T100000
END:DAYLIGHT
BEGIN:STANDARD
TZOFFSETFROM:-0700
TZOFFSETTO:-0800
TZNAME:PST
DTSTART:20281105T090000
END:STANDARD
BEGIN:DAYLIGHT
TZOFFSETFROM:-0800
TZOFFSETTO:-0700
TZNAME:PDT
DTSTART:20290311T100000
END:DAYLIGHT
BEGIN:STANDARD
TZOFFSETFROM:-0700
TZOFFSETTO:-0800
TZNAME:PST
DTSTART:20291104T090000
END:STANDARD
END:VTIMEZONE
BEGIN:VEVENT
DTSTART;TZID=America/Los_Angeles:20280420T090000
DTEND;TZID=America/Los_Angeles:20280420T103000
DTSTAMP:20260421T164351
CREATED:20250819T142213Z
LAST-MODIFIED:20260213T164804Z
UID:10001802-1839834000-1839839400@ccalac.org
SUMMARY:Behavioral Health Roundtable
DESCRIPTION:Visit the Behavioral Health Roundtable page for more information.
URL:https://ccalac.org/event/behavioral-health-roundtable/2028-04-20/
LOCATION:Webinar
CATEGORIES:CCALAC Meetings
END:VEVENT
BEGIN:VEVENT
DTSTART;TZID=America/Los_Angeles:20280427T110000
DTEND;TZID=America/Los_Angeles:20280427T120000
DTSTAMP:20260421T164351
CREATED:20251205T193240Z
LAST-MODIFIED:20251205T194713Z
UID:10002312-1840446000-1840449600@ccalac.org
SUMMARY:Managed Care Advisory Group
DESCRIPTION:
URL:https://ccalac.org/event/managed-care-advisory-workgroup/2028-04-27/
LOCATION:Zoom
ORGANIZER;CN="Karo Szymanska":MAILTO:kszymanska@ccalac.org
END:VEVENT
BEGIN:VEVENT
DTSTART;TZID=America/Los_Angeles:20280504T090000
DTEND;TZID=America/Los_Angeles:20280504T103000
DTSTAMP:20260421T164351
CREATED:20260114T171259Z
LAST-MODIFIED:20260114T171300Z
UID:10002377-1841043600-1841049000@ccalac.org
SUMMARY:Quality Improvement Roundtable
DESCRIPTION:Visit the Quality Improvement Roundtable (QI) page for more information.
URL:https://ccalac.org/event/quality-improvement-roundtable-3-2/2028-05-04/
LOCATION:Webinar
CATEGORIES:CCALAC Meetings
END:VEVENT
BEGIN:VEVENT
DTSTART;TZID=America/Los_Angeles:20280504T100000
DTEND;TZID=America/Los_Angeles:20280504T120000
DTSTAMP:20260421T164351
CREATED:20250819T152120Z
LAST-MODIFIED:20251027T223528Z
UID:10001436-1841047200-1841054400@ccalac.org
SUMMARY:NextGen User Group – Webinar Only
DESCRIPTION:I’m sorry\, this RSVP is currently closed.
URL:https://ccalac.org/event/nextgen-user-group-webinar-only-16/2028-05-04/
CATEGORIES:CCALAC Meetings
END:VEVENT
BEGIN:VEVENT
DTSTART;TZID=America/Los_Angeles:20280518T100000
DTEND;TZID=America/Los_Angeles:20280518T120000
DTSTAMP:20260421T164351
CREATED:20250819T142207Z
LAST-MODIFIED:20260415T193930Z
UID:10001316-1842256800-1842264000@ccalac.org
SUMMARY:Human Resources Roundtable
DESCRIPTION:Visit the Human Resources Roundtable page for more information.
URL:https://ccalac.org/event/human-resources-roundtable/2028-05-18/
LOCATION:CCALAC\, 445 S Figueroa Street\, Suite 2100\, Los Angeles\, CA\, 90071\, United States
CATEGORIES:CCALAC Meetings
END:VEVENT
BEGIN:VEVENT
DTSTART;TZID=America/Los_Angeles:20280518T120000
DTEND;TZID=America/Los_Angeles:20280518T130000
DTSTAMP:20260421T164351
CREATED:20251027T230430Z
LAST-MODIFIED:20251112T030123Z
UID:10002205-1842264000-1842267600@ccalac.org
SUMMARY:Specialized Care Forum
DESCRIPTION:
URL:https://ccalac.org/event/specialized-care-forum/2028-05-18/
LOCATION:Zoom
CATEGORIES:CCALAC Meetings
END:VEVENT
END:VCALENDAR