BEGIN:VCALENDAR
VERSION:2.0
PRODID:-//Community Clinic Association of Los Angeles County - ECPv6.15.20//NONSGML v1.0//EN
CALSCALE:GREGORIAN
METHOD:PUBLISH
X-WR-CALNAME:Community Clinic Association of Los Angeles County
X-ORIGINAL-URL:https://ccalac.org
X-WR-CALDESC:Events for Community Clinic Association of Los Angeles County
REFRESH-INTERVAL;VALUE=DURATION:PT1H
X-Robots-Tag:noindex
X-PUBLISHED-TTL:PT1H
BEGIN:VTIMEZONE
TZID:America/Los_Angeles
BEGIN:DAYLIGHT
TZOFFSETFROM:-0800
TZOFFSETTO:-0700
TZNAME:PDT
DTSTART:20270314T100000
END:DAYLIGHT
BEGIN:STANDARD
TZOFFSETFROM:-0700
TZOFFSETTO:-0800
TZNAME:PST
DTSTART:20271107T090000
END:STANDARD
BEGIN:DAYLIGHT
TZOFFSETFROM:-0800
TZOFFSETTO:-0700
TZNAME:PDT
DTSTART:20280312T100000
END:DAYLIGHT
BEGIN:STANDARD
TZOFFSETFROM:-0700
TZOFFSETTO:-0800
TZNAME:PST
DTSTART:20281105T090000
END:STANDARD
BEGIN:DAYLIGHT
TZOFFSETFROM:-0800
TZOFFSETTO:-0700
TZNAME:PDT
DTSTART:20290311T100000
END:DAYLIGHT
BEGIN:STANDARD
TZOFFSETFROM:-0700
TZOFFSETTO:-0800
TZNAME:PST
DTSTART:20291104T090000
END:STANDARD
END:VTIMEZONE
BEGIN:VEVENT
DTSTART;TZID=America/Los_Angeles:20280214T093000
DTEND;TZID=America/Los_Angeles:20280214T120000
DTSTAMP:20260423T160601
CREATED:20251017T205310Z
LAST-MODIFIED:20260303T004859Z
UID:10001547-1834133400-1834142400@ccalac.org
SUMMARY:Policy Advisory Group (PAG)
DESCRIPTION:Visit the Policy Advisory Group page for more information.
URL:https://ccalac.org/event/policy-advisory-group-pag-2/2028-02-14/
LOCATION:Zoom
CATEGORIES:CCALAC Meetings
ORGANIZER;CN="Karo Szymanska":MAILTO:kszymanska@ccalac.org
END:VEVENT
BEGIN:VEVENT
DTSTART;TZID=America/Los_Angeles:20280217T090000
DTEND;TZID=America/Los_Angeles:20280217T103000
DTSTAMP:20260423T160601
CREATED:20250819T142213Z
LAST-MODIFIED:20260213T164804Z
UID:10001801-1834390800-1834396200@ccalac.org
SUMMARY:Behavioral Health Roundtable
DESCRIPTION:Visit the Behavioral Health Roundtable page for more information.
URL:https://ccalac.org/event/behavioral-health-roundtable/2028-02-17/
LOCATION:Webinar
CATEGORIES:CCALAC Meetings
END:VEVENT
BEGIN:VEVENT
DTSTART;TZID=America/Los_Angeles:20280221T130000
DTEND;TZID=America/Los_Angeles:20280221T143000
DTSTAMP:20260423T160601
CREATED:20250819T142215Z
LAST-MODIFIED:20251204T225025Z
UID:10001899-1834750800-1834756200@ccalac.org
SUMMARY:Chief Financial Officer Roundtable
DESCRIPTION:To RSVP for this meeting\, click HERE. \nVisit the Chief Financial Officer Roundtable page for more information.
URL:https://ccalac.org/event/chief-financial-officer-roundtable/2028-02-21/
LOCATION:Zoom
CATEGORIES:CCALAC Meetings
END:VEVENT
BEGIN:VEVENT
DTSTART;TZID=America/Los_Angeles:20280302T090000
DTEND;TZID=America/Los_Angeles:20280302T103000
DTSTAMP:20260423T160601
CREATED:20260114T171259Z
LAST-MODIFIED:20260114T171300Z
UID:10002376-1835600400-1835605800@ccalac.org
SUMMARY:Quality Improvement Roundtable
DESCRIPTION:Visit the Quality Improvement Roundtable (QI) page for more information.
URL:https://ccalac.org/event/quality-improvement-roundtable-3-2/2028-03-02/
LOCATION:Webinar
CATEGORIES:CCALAC Meetings
END:VEVENT
BEGIN:VEVENT
DTSTART;TZID=America/Los_Angeles:20280302T100000
DTEND;TZID=America/Los_Angeles:20280302T120000
DTSTAMP:20260423T160601
CREATED:20250819T152120Z
LAST-MODIFIED:20251027T223528Z
UID:10001435-1835604000-1835611200@ccalac.org
SUMMARY:NextGen User Group – Webinar Only
DESCRIPTION:I’m sorry\, this RSVP is currently closed.
URL:https://ccalac.org/event/nextgen-user-group-webinar-only-16/2028-03-02/
CATEGORIES:CCALAC Meetings
END:VEVENT
BEGIN:VEVENT
DTSTART;TZID=America/Los_Angeles:20280411T110000
DTEND;TZID=America/Los_Angeles:20280411T123000
DTSTAMP:20260423T160601
CREATED:20251027T224921Z
LAST-MODIFIED:20251027T224921Z
UID:10002179-1839063600-1839069000@ccalac.org
SUMMARY:Health Education & Clinical Engagement Forum (HECEF)
DESCRIPTION:
URL:https://ccalac.org/event/health-education-clinical-engagement-forum-hecef/2028-04-11/
LOCATION:Zoom
CATEGORIES:CCALAC Meetings
END:VEVENT
END:VCALENDAR