BEGIN:VCALENDAR
VERSION:2.0
PRODID:-//Community Clinic Association of Los Angeles County - ECPv6.15.20//NONSGML v1.0//EN
CALSCALE:GREGORIAN
METHOD:PUBLISH
X-ORIGINAL-URL:https://ccalac.org
X-WR-CALDESC:Events for Community Clinic Association of Los Angeles County
REFRESH-INTERVAL;VALUE=DURATION:PT1H
X-Robots-Tag:noindex
X-PUBLISHED-TTL:PT1H
BEGIN:VTIMEZONE
TZID:America/Los_Angeles
BEGIN:DAYLIGHT
TZOFFSETFROM:-0800
TZOFFSETTO:-0700
TZNAME:PDT
DTSTART:20250309T100000
END:DAYLIGHT
BEGIN:STANDARD
TZOFFSETFROM:-0700
TZOFFSETTO:-0800
TZNAME:PST
DTSTART:20251102T090000
END:STANDARD
BEGIN:DAYLIGHT
TZOFFSETFROM:-0800
TZOFFSETTO:-0700
TZNAME:PDT
DTSTART:20260308T100000
END:DAYLIGHT
BEGIN:STANDARD
TZOFFSETFROM:-0700
TZOFFSETTO:-0800
TZNAME:PST
DTSTART:20261101T090000
END:STANDARD
BEGIN:DAYLIGHT
TZOFFSETFROM:-0800
TZOFFSETTO:-0700
TZNAME:PDT
DTSTART:20270314T100000
END:DAYLIGHT
BEGIN:STANDARD
TZOFFSETFROM:-0700
TZOFFSETTO:-0800
TZNAME:PST
DTSTART:20271107T090000
END:STANDARD
END:VTIMEZONE
BEGIN:VEVENT
DTSTART;TZID=America/Los_Angeles:20260604T090000
DTEND;TZID=America/Los_Angeles:20260604T113000
DTSTAMP:20260425T053406
CREATED:20260217T204810Z
LAST-MODIFIED:20260302T223424Z
UID:10002443-1780563600-1780572600@ccalac.org
SUMMARY:Making it Count: Building a Quality Improvement Program from the Ground Up
DESCRIPTION:
URL:https://ccalac.org/event/making-it-count-building-a-quality-improvement-program-from-the-ground-up/
LOCATION:Webinar
CATEGORIES:Training
END:VEVENT
BEGIN:VEVENT
DTSTART;TZID=America/Los_Angeles:20260604T093000
DTEND;TZID=America/Los_Angeles:20260604T113000
DTSTAMP:20260425T053406
CREATED:20260318T215547Z
LAST-MODIFIED:20260324T171603Z
UID:10002465-1780565400-1780572600@ccalac.org
SUMMARY:CREW: Leadership Training Series
DESCRIPTION:
URL:https://ccalac.org/event/crew-leadership-training-series/2026-06-04/
LOCATION:Zoom
CATEGORIES:Training
END:VEVENT
BEGIN:VEVENT
DTSTART;TZID=America/Los_Angeles:20260609T140000
DTEND;TZID=America/Los_Angeles:20260609T153000
DTSTAMP:20260425T053406
CREATED:20260206T232644Z
LAST-MODIFIED:20260324T164510Z
UID:10002434-1781013600-1781019000@ccalac.org
SUMMARY:ICS100: Introduction to Incident Command System
DESCRIPTION:
URL:https://ccalac.org/event/ics100-introduction-to-incident-command-system/
LOCATION:Zoom
CATEGORIES:Training
END:VEVENT
BEGIN:VEVENT
DTSTART;TZID=America/Los_Angeles:20260612T121500
DTEND;TZID=America/Los_Angeles:20260612T131500
DTSTAMP:20260425T053406
CREATED:20260416T200409Z
LAST-MODIFIED:20260416T200836Z
UID:10002519-1781266500-1781270100@ccalac.org
SUMMARY:Integrating Lung Cancer Screening and Tobacco Cessation in Clinical Practice
DESCRIPTION:
URL:https://ccalac.org/event/integrating-lung-cancer-screening-and-tobacco-cessation-in-clinical-practice/
LOCATION:Zoom
CATEGORIES:Training
END:VEVENT
END:VCALENDAR