BEGIN:VCALENDAR
VERSION:2.0
PRODID:-//Community Clinic Association of Los Angeles County - ECPv6.15.20//NONSGML v1.0//EN
CALSCALE:GREGORIAN
METHOD:PUBLISH
X-WR-CALNAME:Community Clinic Association of Los Angeles County
X-ORIGINAL-URL:https://ccalac.org
X-WR-CALDESC:Events for Community Clinic Association of Los Angeles County
REFRESH-INTERVAL;VALUE=DURATION:PT1H
X-Robots-Tag:noindex
X-PUBLISHED-TTL:PT1H
BEGIN:VTIMEZONE
TZID:America/Los_Angeles
BEGIN:DAYLIGHT
TZOFFSETFROM:-0800
TZOFFSETTO:-0700
TZNAME:PDT
DTSTART:20250309T100000
END:DAYLIGHT
BEGIN:STANDARD
TZOFFSETFROM:-0700
TZOFFSETTO:-0800
TZNAME:PST
DTSTART:20251102T090000
END:STANDARD
BEGIN:DAYLIGHT
TZOFFSETFROM:-0800
TZOFFSETTO:-0700
TZNAME:PDT
DTSTART:20260308T100000
END:DAYLIGHT
BEGIN:STANDARD
TZOFFSETFROM:-0700
TZOFFSETTO:-0800
TZNAME:PST
DTSTART:20261101T090000
END:STANDARD
BEGIN:DAYLIGHT
TZOFFSETFROM:-0800
TZOFFSETTO:-0700
TZNAME:PDT
DTSTART:20270314T100000
END:DAYLIGHT
BEGIN:STANDARD
TZOFFSETFROM:-0700
TZOFFSETTO:-0800
TZNAME:PST
DTSTART:20271107T090000
END:STANDARD
END:VTIMEZONE
BEGIN:VEVENT
DTSTART;TZID=America/Los_Angeles:20260501T090000
DTEND;TZID=America/Los_Angeles:20260501T123000
DTSTAMP:20260421T004131
CREATED:20260226T015112Z
LAST-MODIFIED:20260331T031251Z
UID:10002451-1777626000-1777638600@ccalac.org
SUMMARY:Annual NextGen User Collaborative Training
DESCRIPTION:
URL:https://ccalac.org/event/annual-nextgen-user-collaborative-training_/2026-05-01/
LOCATION:Zoom
CATEGORIES:Training
END:VEVENT
BEGIN:VEVENT
DTSTART;TZID=America/Los_Angeles:20260505T070000
DTEND;TZID=America/Los_Angeles:20260505T170000
DTSTAMP:20260421T004131
CREATED:20260305T022823Z
LAST-MODIFIED:20260327T060256Z
UID:10002456-1777964400-1778000400@ccalac.org
SUMMARY:Healthcare Disaster Management Training
DESCRIPTION:
URL:https://ccalac.org/event/healthcare-disaster-management-training-16/2026-05-05/
LOCATION:Los Angeles County EMS Agency\, 10100 Pioneer Blvd.\, Cathy Chidester Conference Room\, Santa Fe Springs\, CA\, 90670\, United States
CATEGORIES:Training
END:VEVENT
BEGIN:VEVENT
DTSTART;TZID=America/Los_Angeles:20260505T093000
DTEND;TZID=America/Los_Angeles:20260505T120000
DTSTAMP:20260421T004131
CREATED:20260212T233037Z
LAST-MODIFIED:20260312T230850Z
UID:10002441-1777973400-1777982400@ccalac.org
SUMMARY:Core Competencies for Community Health Center Managers & Supervisors at All Levels
DESCRIPTION:
URL:https://ccalac.org/event/core-competencies-for-community-health-center-managers-supervisors-at-all-levels/2026-05-05/
LOCATION:Zoom
CATEGORIES:Training
END:VEVENT
BEGIN:VEVENT
DTSTART;TZID=America/Los_Angeles:20260506T070000
DTEND;TZID=America/Los_Angeles:20260506T170000
DTSTAMP:20260421T004131
CREATED:20260305T022823Z
LAST-MODIFIED:20260327T060256Z
UID:10002457-1778050800-1778086800@ccalac.org
SUMMARY:Healthcare Disaster Management Training
DESCRIPTION:
URL:https://ccalac.org/event/healthcare-disaster-management-training-16/2026-05-06/
LOCATION:Los Angeles County EMS Agency\, 10100 Pioneer Blvd.\, Cathy Chidester Conference Room\, Santa Fe Springs\, CA\, 90670\, United States
CATEGORIES:Training
END:VEVENT
BEGIN:VEVENT
DTSTART;TZID=America/Los_Angeles:20260512T130000
DTEND;TZID=America/Los_Angeles:20260512T150000
DTSTAMP:20260421T004131
CREATED:20260320T225207Z
LAST-MODIFIED:20260401T004243Z
UID:10002466-1778590800-1778598000@ccalac.org
SUMMARY:Holding the Weight: Moral Injury\, Resilience\, and Rest in Community Health Work
DESCRIPTION:
URL:https://ccalac.org/event/holding-the-weight-moral-injury-resilience-and-rest-in-community-health-work/
LOCATION:CCALAC\, 445 S Figueroa Street\, Suite 2100\, Los Angeles\, CA\, 90071\, United States
CATEGORIES:Training
END:VEVENT
BEGIN:VEVENT
DTSTART;TZID=America/Los_Angeles:20260527T130000
DTEND;TZID=America/Los_Angeles:20260527T140000
DTSTAMP:20260421T004131
CREATED:20260313T211101Z
LAST-MODIFIED:20260313T211101Z
UID:10002461-1779886800-1779890400@ccalac.org
SUMMARY:SDoH Training Series Part 3: Barriers and Facilitators for Closed Loop Referrals for HRSN's
DESCRIPTION:
URL:https://ccalac.org/event/sdoh-training-series-part-3-barriers-and-facilitators-for-closed-loop-referrals-for-hrsns/
CATEGORIES:CCALAC Meetings,Training
END:VEVENT
BEGIN:VEVENT
DTSTART;TZID=America/Los_Angeles:20260528T093000
DTEND;TZID=America/Los_Angeles:20260528T113000
DTSTAMP:20260421T004131
CREATED:20260318T215547Z
LAST-MODIFIED:20260324T171603Z
UID:10002464-1779960600-1779967800@ccalac.org
SUMMARY:CREW: Leadership Training Series
DESCRIPTION:
URL:https://ccalac.org/event/crew-leadership-training-series/2026-05-28/
LOCATION:Zoom
CATEGORIES:Training
END:VEVENT
BEGIN:VEVENT
DTSTART;TZID=America/Los_Angeles:20260529T121500
DTEND;TZID=America/Los_Angeles:20260529T131500
DTSTAMP:20260421T004131
CREATED:20260313T161726Z
LAST-MODIFIED:20260318T165000Z
UID:10002459-1780056900-1780060500@ccalac.org
SUMMARY:Breathing Easier: Medi-Cal’s Asthma Home Visiting Services
DESCRIPTION:
URL:https://ccalac.org/event/breathing-easier-medi-cals-asthma-home-visiting-services/
LOCATION:Webinar
CATEGORIES:Training
END:VEVENT
END:VCALENDAR