BEGIN:VCALENDAR
VERSION:2.0
PRODID:-//Community Clinic Association of Los Angeles County - ECPv6.15.20//NONSGML v1.0//EN
CALSCALE:GREGORIAN
METHOD:PUBLISH
X-ORIGINAL-URL:https://ccalac.org
X-WR-CALDESC:Events for Community Clinic Association of Los Angeles County
REFRESH-INTERVAL;VALUE=DURATION:PT1H
X-Robots-Tag:noindex
X-PUBLISHED-TTL:PT1H
BEGIN:VTIMEZONE
TZID:America/Los_Angeles
BEGIN:DAYLIGHT
TZOFFSETFROM:-0800
TZOFFSETTO:-0700
TZNAME:PDT
DTSTART:20260308T100000
END:DAYLIGHT
BEGIN:STANDARD
TZOFFSETFROM:-0700
TZOFFSETTO:-0800
TZNAME:PST
DTSTART:20261101T090000
END:STANDARD
BEGIN:DAYLIGHT
TZOFFSETFROM:-0800
TZOFFSETTO:-0700
TZNAME:PDT
DTSTART:20270314T100000
END:DAYLIGHT
BEGIN:STANDARD
TZOFFSETFROM:-0700
TZOFFSETTO:-0800
TZNAME:PST
DTSTART:20271107T090000
END:STANDARD
BEGIN:DAYLIGHT
TZOFFSETFROM:-0800
TZOFFSETTO:-0700
TZNAME:PDT
DTSTART:20280312T100000
END:DAYLIGHT
BEGIN:STANDARD
TZOFFSETFROM:-0700
TZOFFSETTO:-0800
TZNAME:PST
DTSTART:20281105T090000
END:STANDARD
END:VTIMEZONE
BEGIN:VEVENT
DTSTART;TZID=America/Los_Angeles:20270902T090000
DTEND;TZID=America/Los_Angeles:20270902T103000
DTSTAMP:20260420T023840
CREATED:20260114T171259Z
LAST-MODIFIED:20260114T171300Z
UID:10002373-1819875600-1819881000@ccalac.org
SUMMARY:Quality Improvement Roundtable
DESCRIPTION:Visit the Quality Improvement Roundtable (QI) page for more information.
URL:https://ccalac.org/event/quality-improvement-roundtable-3-2/2027-09-02/
LOCATION:Webinar
CATEGORIES:CCALAC Meetings
END:VEVENT
BEGIN:VEVENT
DTSTART;TZID=America/Los_Angeles:20270902T100000
DTEND;TZID=America/Los_Angeles:20270902T120000
DTSTAMP:20260420T023840
CREATED:20250819T152120Z
LAST-MODIFIED:20251027T223528Z
UID:10001432-1819879200-1819886400@ccalac.org
SUMMARY:NextGen User Group – Webinar Only
DESCRIPTION:I’m sorry\, this RSVP is currently closed.
URL:https://ccalac.org/event/nextgen-user-group-webinar-only-16/2027-09-02/
CATEGORIES:CCALAC Meetings
END:VEVENT
BEGIN:VEVENT
DTSTART;TZID=America/Los_Angeles:20270913T093000
DTEND;TZID=America/Los_Angeles:20270913T120000
DTSTAMP:20260420T023840
CREATED:20251017T205310Z
LAST-MODIFIED:20260303T004859Z
UID:10001542-1820827800-1820836800@ccalac.org
SUMMARY:Policy Advisory Group (PAG)
DESCRIPTION:Visit the Policy Advisory Group page for more information.
URL:https://ccalac.org/event/policy-advisory-group-pag-2/2027-09-13/
LOCATION:Zoom
CATEGORIES:CCALAC Meetings
ORGANIZER;CN="Karo Szymanska":MAILTO:kszymanska@ccalac.org
END:VEVENT
BEGIN:VEVENT
DTSTART;TZID=America/Los_Angeles:20270914T090000
DTEND;TZID=America/Los_Angeles:20270914T103000
DTSTAMP:20260420T023840
CREATED:20251027T211640Z
LAST-MODIFIED:20251111T003501Z
UID:10001610-1820912400-1820917800@ccalac.org
SUMMARY:Clinical Advisory Group (CAG)
DESCRIPTION:Visit the Clinical Advisory Group page for more information.
URL:https://ccalac.org/event/clinical-advisory-group-cag-2/2027-09-14/
LOCATION:Webinar
CATEGORIES:CCALAC Meetings
END:VEVENT
BEGIN:VEVENT
DTSTART;TZID=America/Los_Angeles:20270916T100000
DTEND;TZID=America/Los_Angeles:20270916T120000
DTSTAMP:20260420T023840
CREATED:20250819T142207Z
LAST-MODIFIED:20260415T193930Z
UID:10001312-1821088800-1821096000@ccalac.org
SUMMARY:Human Resources Roundtable
DESCRIPTION:Visit the Human Resources Roundtable page for more information.
URL:https://ccalac.org/event/human-resources-roundtable/2027-09-16/
LOCATION:CCALAC\, 445 S Figueroa Street\, Suite 2100\, Los Angeles\, CA\, 90071\, United States
CATEGORIES:CCALAC Meetings
END:VEVENT
BEGIN:VEVENT
DTSTART;TZID=America/Los_Angeles:20270916T120000
DTEND;TZID=America/Los_Angeles:20270916T130000
DTSTAMP:20260420T023840
CREATED:20251027T230430Z
LAST-MODIFIED:20251112T030123Z
UID:10002201-1821096000-1821099600@ccalac.org
SUMMARY:Specialized Care Forum
DESCRIPTION:
URL:https://ccalac.org/event/specialized-care-forum/2027-09-16/
LOCATION:Zoom
CATEGORIES:CCALAC Meetings
END:VEVENT
BEGIN:VEVENT
DTSTART;TZID=America/Los_Angeles:20270921T120000
DTEND;TZID=America/Los_Angeles:20270921T140000
DTSTAMP:20260420T023840
CREATED:20251017T210406Z
LAST-MODIFIED:20251111T003829Z
UID:10001662-1821528000-1821535200@ccalac.org
SUMMARY:Emergency Management Workgroup
DESCRIPTION:
URL:https://ccalac.org/event/emergency-management-workgroup-2/2027-09-21/
LOCATION:CCALAC\, 445 S Figueroa Street\, Suite 2100\, Los Angeles\, CA\, 90071\, United States
CATEGORIES:CCALAC Meetings
END:VEVENT
BEGIN:VEVENT
DTSTART;TZID=America/Los_Angeles:20270922T093000
DTEND;TZID=America/Los_Angeles:20270922T110000
DTSTAMP:20260420T023840
CREATED:20250819T142221Z
LAST-MODIFIED:20251204T224013Z
UID:10002026-1821605400-1821610800@ccalac.org
SUMMARY:Outreach\, Enrollment and Retention Peer Network
DESCRIPTION:To RSVP for this meeting\, click HERE. \nVisit the Outreach\, Enrollment and Retention Peer Network Page for more information.
URL:https://ccalac.org/event/outreach-enrollment-and-retention-peer-network-3/2027-09-22/
LOCATION:Zoom
CATEGORIES:CCALAC Meetings
ORGANIZER;CN="Karo Szymanska":MAILTO:kszymanska@ccalac.org
END:VEVENT
BEGIN:VEVENT
DTSTART;TZID=America/Los_Angeles:20270928T030000
DTEND;TZID=America/Los_Angeles:20270928T043000
DTSTAMP:20260420T023840
CREATED:20250819T152049Z
LAST-MODIFIED:20250819T152049Z
UID:10000572-1822100400-1822105800@ccalac.org
SUMMARY:HIT Roundtable In Person
DESCRIPTION:
URL:https://ccalac.org/event/hit-roundtable-in-person/
CATEGORIES:CCALAC Meetings
END:VEVENT
BEGIN:VEVENT
DTSTART;TZID=America/Los_Angeles:20270928T030000
DTEND;TZID=America/Los_Angeles:20270928T043000
DTSTAMP:20260420T023840
CREATED:20250819T152049Z
LAST-MODIFIED:20250819T152049Z
UID:10000574-1822100400-1822105800@ccalac.org
SUMMARY:Finance Committee Meeting
DESCRIPTION:
URL:https://ccalac.org/event/finance-committee-meeting-2/
CATEGORIES:CCALAC Meetings
END:VEVENT
BEGIN:VEVENT
DTSTART;TZID=America/Los_Angeles:20270928T100000
DTEND;TZID=America/Los_Angeles:20270928T113000
DTSTAMP:20260420T023840
CREATED:20250819T142221Z
LAST-MODIFIED:20251217T182318Z
UID:10002054-1822125600-1822131000@ccalac.org
SUMMARY:Pharmacy Peer Network
DESCRIPTION:
URL:https://ccalac.org/event/pharmacy-peer-network-3/2027-09-28/
LOCATION:Zoom
CATEGORIES:CCALAC Meetings
END:VEVENT
END:VCALENDAR